BEGIN:VCALENDAR
VERSION:2.0
PRODID:-//Landschaftspflegeverband Regensburg eV - ECPv6.15.17.1//NONSGML v1.0//EN
CALSCALE:GREGORIAN
METHOD:PUBLISH
X-WR-CALNAME:Landschaftspflegeverband Regensburg eV
X-ORIGINAL-URL:https://www.lpv-regensburg.de
X-WR-CALDESC:Veranstaltungen für Landschaftspflegeverband Regensburg eV
REFRESH-INTERVAL;VALUE=DURATION:PT1H
X-Robots-Tag:noindex
X-PUBLISHED-TTL:PT1H
BEGIN:VTIMEZONE
TZID:Europe/Berlin
BEGIN:DAYLIGHT
TZOFFSETFROM:+0100
TZOFFSETTO:+0200
TZNAME:CEST
DTSTART:20250330T010000
END:DAYLIGHT
BEGIN:STANDARD
TZOFFSETFROM:+0200
TZOFFSETTO:+0100
TZNAME:CET
DTSTART:20251026T010000
END:STANDARD
BEGIN:DAYLIGHT
TZOFFSETFROM:+0100
TZOFFSETTO:+0200
TZNAME:CEST
DTSTART:20260329T010000
END:DAYLIGHT
BEGIN:STANDARD
TZOFFSETFROM:+0200
TZOFFSETTO:+0100
TZNAME:CET
DTSTART:20261025T010000
END:STANDARD
BEGIN:DAYLIGHT
TZOFFSETFROM:+0100
TZOFFSETTO:+0200
TZNAME:CEST
DTSTART:20270328T010000
END:DAYLIGHT
BEGIN:STANDARD
TZOFFSETFROM:+0200
TZOFFSETTO:+0100
TZNAME:CET
DTSTART:20271031T010000
END:STANDARD
END:VTIMEZONE
BEGIN:VEVENT
DTSTART;TZID=Europe/Berlin:20260424T170000
DTEND;TZID=Europe/Berlin:20260424T190000
DTSTAMP:20260424T012744
CREATED:20260119T152355Z
LAST-MODIFIED:20260119T152355Z
UID:11022-1777050000-1777057200@www.lpv-regensburg.de
SUMMARY:Tier- und Pflanzenwelt entlang der Donau
DESCRIPTION:Tier– und Pflanzenwelt in den Altwassern\, Wiesen\, Feldern und Gehölzbeständen in der Donauaue.\n\n\nIm Stadtgebiet von Regensburg ist die Donau aufgestaut\, eingeengt\, befestigt oder intensiv als Erholungsraum genutzt. Für die Natur bleibt nur wenig Raum. \nDie gemütliche Radtour führt aus der Stadt in Richtung Donaustauf. Wie beschäftigen uns mit der Tier– und Pflanzenwelt in den Altwassern\, Wiesen\, Feldern und Gehölzbeständen in der Donauaue. \nReferent: Hartmut Schmid\, Gebietsbetreuer beim Landschaftspflegeverband \nTermin: Donnerstag\, 24.04.2026 / 17:00 – ca. 19:00 Uhr\nTreffpunkt: Regensburg\, Kreuzung Schwabelweiser Weg/Vilsstraße \nKeine Anmeldung erforderlich\nkostenfrei
URL:https://www.lpv-regensburg.de/veranstaltung/tier-und-pflanzenwelt-entlang-der-donau-3/
LOCATION:Kreuzung Schwabelweiser Weg/Vilsstraße\, Vilsstraße 10\, Regensburg\, 93059\, Deutschland
ORGANIZER;CN="LPV Regensburg":MAILTO:lpv@lra-regensburg.de
END:VEVENT
END:VCALENDAR