BEGIN:VCALENDAR
VERSION:2.0
PRODID:-//Landschaftspflegeverband Regensburg eV - ECPv6.15.17.1//NONSGML v1.0//EN
CALSCALE:GREGORIAN
METHOD:PUBLISH
X-ORIGINAL-URL:https://www.lpv-regensburg.de
X-WR-CALDESC:Veranstaltungen für Landschaftspflegeverband Regensburg eV
REFRESH-INTERVAL;VALUE=DURATION:PT1H
X-Robots-Tag:noindex
X-PUBLISHED-TTL:PT1H
BEGIN:VTIMEZONE
TZID:Europe/Berlin
BEGIN:DAYLIGHT
TZOFFSETFROM:+0100
TZOFFSETTO:+0200
TZNAME:CEST
DTSTART:20230326T010000
END:DAYLIGHT
BEGIN:STANDARD
TZOFFSETFROM:+0200
TZOFFSETTO:+0100
TZNAME:CET
DTSTART:20231029T010000
END:STANDARD
BEGIN:DAYLIGHT
TZOFFSETFROM:+0100
TZOFFSETTO:+0200
TZNAME:CEST
DTSTART:20240331T010000
END:DAYLIGHT
BEGIN:STANDARD
TZOFFSETFROM:+0200
TZOFFSETTO:+0100
TZNAME:CET
DTSTART:20241027T010000
END:STANDARD
BEGIN:DAYLIGHT
TZOFFSETFROM:+0100
TZOFFSETTO:+0200
TZNAME:CEST
DTSTART:20250330T010000
END:DAYLIGHT
BEGIN:STANDARD
TZOFFSETFROM:+0200
TZOFFSETTO:+0100
TZNAME:CET
DTSTART:20251026T010000
END:STANDARD
END:VTIMEZONE
BEGIN:VEVENT
DTSTART;TZID=Europe/Berlin:20241020T110000
DTEND;TZID=Europe/Berlin:20241020T160000
DTSTAMP:20260422T034920
CREATED:20241015T130127Z
LAST-MODIFIED:20241015T131555Z
UID:9670-1729422000-1729440000@www.lpv-regensburg.de
SUMMARY:Birnenvielfalt auf dem Regionalmarkt
DESCRIPTION:Birnenvielfalt auf dem Regionalmarkt \nRegensburg (RL) Über einhundert unterschiedliche Birnensorten an einem Ort versammelt. Das hat es schon lange nicht mehr gegeben und wird so bald auch nicht mehr stattfinden. Zu besichtigen sind die Birnen am kommenden Sonntag den 20. Oktober auf dem Regionalmarkt des Landkreises Regensburg am Lappersdorfer Gymnasium. Neben bekannten Sorten werden auch Raritäten aus Belgien\, den Niederlande\, Österreich und Tschechien\, sowie regionale Sortenschätze aus dem Regensburger Landkreis präsentiert. Die Sortenausstellung wird durch Informationen zu Verwendung und Verwertung von Früchten und Holz des Birnbaums ergänzt. Josef Wittmann\, Pomologe und die Fachberatung für Gartenkultur und Landespflege werden vor Ort Fragen rund um das Thema Birne beantworten. \nProjekt „Birnenschönheiten“ \nAusschlaggebend für eine reine Birnen-Sortenausstellung ist das Projekt „Birnenschönheiten – Spuren & Strukturen unserer Landschaft“ des Kreisverbandes Regensburg für Gartenkultur und Landespflege e.V. in Zusammenarbeit mit der Regierung der Oberpfalz. Das Projektziel ist die Erfassung von möglichst vielen seltenen oder sogar noch unbekannten regionalen Birnensorten. Weiterführende Informationen unter: birnenschoenheiten.de \nDer große Regionalmarkt findet statt am Sonntag\, den 20. Oktober 2024\, in der Zeit von 11 bis 16 Uhr\, auf dem Schulgelände des Gymnasiums Lappersdorf\, Am Sportzentrum 2\, 93183 Lappersdorf.
URL:https://www.lpv-regensburg.de/veranstaltung/birnenvielfalt-auf-dem-regionalmarkt/
LOCATION:Am Sportzentrum 2\, 93183 Lappersdorf.
CATEGORIES:Regionalvermarktung,Streuobst,Umweltbildung
ATTACH;FMTTYPE=image/jpeg:https://www.lpv-regensburg.de/wp-content/uploads/Bild-2_BirnenAusstellung-_SF.jpg
END:VEVENT
END:VCALENDAR