BEGIN:VCALENDAR
VERSION:2.0
PRODID:-//Landschaftspflegeverband Regensburg eV - ECPv6.15.17.1//NONSGML v1.0//EN
CALSCALE:GREGORIAN
METHOD:PUBLISH
X-WR-CALNAME:Landschaftspflegeverband Regensburg eV
X-ORIGINAL-URL:https://www.lpv-regensburg.de
X-WR-CALDESC:Veranstaltungen für Landschaftspflegeverband Regensburg eV
REFRESH-INTERVAL;VALUE=DURATION:PT1H
X-Robots-Tag:noindex
X-PUBLISHED-TTL:PT1H
BEGIN:VTIMEZONE
TZID:Europe/Berlin
BEGIN:DAYLIGHT
TZOFFSETFROM:+0100
TZOFFSETTO:+0200
TZNAME:CEST
DTSTART:20230326T010000
END:DAYLIGHT
BEGIN:STANDARD
TZOFFSETFROM:+0200
TZOFFSETTO:+0100
TZNAME:CET
DTSTART:20231029T010000
END:STANDARD
BEGIN:DAYLIGHT
TZOFFSETFROM:+0100
TZOFFSETTO:+0200
TZNAME:CEST
DTSTART:20240331T010000
END:DAYLIGHT
BEGIN:STANDARD
TZOFFSETFROM:+0200
TZOFFSETTO:+0100
TZNAME:CET
DTSTART:20241027T010000
END:STANDARD
BEGIN:DAYLIGHT
TZOFFSETFROM:+0100
TZOFFSETTO:+0200
TZNAME:CEST
DTSTART:20250330T010000
END:DAYLIGHT
BEGIN:STANDARD
TZOFFSETFROM:+0200
TZOFFSETTO:+0100
TZNAME:CET
DTSTART:20251026T010000
END:STANDARD
END:VTIMEZONE
BEGIN:VEVENT
DTSTART;TZID=Europe/Berlin:20240427T100000
DTEND;TZID=Europe/Berlin:20240427T120000
DTSTAMP:20260421T173210
CREATED:20240321T085956Z
LAST-MODIFIED:20240418T142636Z
UID:9172-1714212000-1714219200@www.lpv-regensburg.de
SUMMARY:Essbare Wildpflanzen im Frühling
DESCRIPTION:Essbare Wildpflanzen im Frühling\nBei einem Frühlings-Spaziergang lernen wir essbare Wildpflanzen kennen\, die unsere Salate bunter\, die Kräuterbutter verträglicher\, den Tee schmackhafter und uns glücklicher machen.\nSamstag\, 27. April\, 10-12 Uhr \nTreffpunkt: Piesenkofen – Am Litzelbach\, Ecke Adalbert-Stifter-Straße \nUnkostenbeitrag 10 €\, Kinder kostenfrei \nAnmeldung unter: www.sabines-biologisch.de
URL:https://www.lpv-regensburg.de/veranstaltung/essbare-wildpflanzen-im-fruehling-2/
END:VEVENT
END:VCALENDAR