BEGIN:VCALENDAR
VERSION:2.0
PRODID:-//Landschaftspflegeverband Regensburg eV - ECPv6.15.17.1//NONSGML v1.0//EN
CALSCALE:GREGORIAN
METHOD:PUBLISH
X-ORIGINAL-URL:https://www.lpv-regensburg.de
X-WR-CALDESC:Veranstaltungen für Landschaftspflegeverband Regensburg eV
REFRESH-INTERVAL;VALUE=DURATION:PT1H
X-Robots-Tag:noindex
X-PUBLISHED-TTL:PT1H
BEGIN:VTIMEZONE
TZID:Europe/Berlin
BEGIN:DAYLIGHT
TZOFFSETFROM:+0100
TZOFFSETTO:+0200
TZNAME:CEST
DTSTART:20230326T010000
END:DAYLIGHT
BEGIN:STANDARD
TZOFFSETFROM:+0200
TZOFFSETTO:+0100
TZNAME:CET
DTSTART:20231029T010000
END:STANDARD
BEGIN:DAYLIGHT
TZOFFSETFROM:+0100
TZOFFSETTO:+0200
TZNAME:CEST
DTSTART:20240331T010000
END:DAYLIGHT
BEGIN:STANDARD
TZOFFSETFROM:+0200
TZOFFSETTO:+0100
TZNAME:CET
DTSTART:20241027T010000
END:STANDARD
BEGIN:DAYLIGHT
TZOFFSETFROM:+0100
TZOFFSETTO:+0200
TZNAME:CEST
DTSTART:20250330T010000
END:DAYLIGHT
BEGIN:STANDARD
TZOFFSETFROM:+0200
TZOFFSETTO:+0100
TZNAME:CET
DTSTART:20251026T010000
END:STANDARD
END:VTIMEZONE
BEGIN:VEVENT
DTSTART;TZID=Europe/Berlin:20240426T201500
DTEND;TZID=Europe/Berlin:20240426T223000
DTSTAMP:20260422T195342
CREATED:20240321T085421Z
LAST-MODIFIED:20240410T121120Z
UID:9147-1714162500-1714170600@www.lpv-regensburg.de
SUMMARY:Fledermäuse: Am Burgberg und in der Kirche in Donaustauf
DESCRIPTION:Fledermäuse\nAm Burgberg und in der Kirche in Donaustauf\nIn alten Bäumen auf der Burg und am Kirchenboden leben Fledermäuse. Wir beobachten den abendlichen Ausflug der Tiere und erfahren viel Wissenswertes aus ihrer geheimnisvollen Welt.\nMayer Robert\, Zoologe\, mit der Ortsgruppe des Bund Naturschutz \nFreitag\, 26. April. 20:15 Uhr \nTreffpunkt: Pfarrkirche St. Michael Donaustauf \nKeine Anmeldung erforderlich; Kostenfrei \nFür Kinder geeignet
URL:https://www.lpv-regensburg.de/veranstaltung/fledermaeuse-am-burgberg-und-der-kirche-in-donaustauf/
END:VEVENT
END:VCALENDAR