BEGIN:VCALENDAR
VERSION:2.0
PRODID:-//Landschaftspflegeverband Regensburg eV - ECPv6.15.17.1//NONSGML v1.0//EN
CALSCALE:GREGORIAN
METHOD:PUBLISH
X-WR-CALNAME:Landschaftspflegeverband Regensburg eV
X-ORIGINAL-URL:https://www.lpv-regensburg.de
X-WR-CALDESC:Veranstaltungen für Landschaftspflegeverband Regensburg eV
REFRESH-INTERVAL;VALUE=DURATION:PT1H
X-Robots-Tag:noindex
X-PUBLISHED-TTL:PT1H
BEGIN:VTIMEZONE
TZID:Europe/Berlin
BEGIN:DAYLIGHT
TZOFFSETFROM:+0100
TZOFFSETTO:+0200
TZNAME:CEST
DTSTART:20230326T010000
END:DAYLIGHT
BEGIN:STANDARD
TZOFFSETFROM:+0200
TZOFFSETTO:+0100
TZNAME:CET
DTSTART:20231029T010000
END:STANDARD
BEGIN:DAYLIGHT
TZOFFSETFROM:+0100
TZOFFSETTO:+0200
TZNAME:CEST
DTSTART:20240331T010000
END:DAYLIGHT
BEGIN:STANDARD
TZOFFSETFROM:+0200
TZOFFSETTO:+0100
TZNAME:CET
DTSTART:20241027T010000
END:STANDARD
BEGIN:DAYLIGHT
TZOFFSETFROM:+0100
TZOFFSETTO:+0200
TZNAME:CEST
DTSTART:20250330T010000
END:DAYLIGHT
BEGIN:STANDARD
TZOFFSETFROM:+0200
TZOFFSETTO:+0100
TZNAME:CET
DTSTART:20251026T010000
END:STANDARD
END:VTIMEZONE
BEGIN:VEVENT
DTSTART;TZID=Europe/Berlin:20240427T140000
DTEND;TZID=Europe/Berlin:20240427T160000
DTSTAMP:20260422T133142
CREATED:20240321T085700Z
LAST-MODIFIED:20240321T085717Z
UID:9154-1714226400-1714233600@www.lpv-regensburg.de
SUMMARY:Die grüne Hausapotheke Natur-Paradies zwischen Haustür und Gartenzaun
DESCRIPTION:Die grüne Hausapotheke\nNatur-Paradies zwischen Haustür und Gartenzaun\nEs wächst mehr im Garten\, als man sät. Zwischen Kräuter- und Gewürzpflanzen wachsen in auch Pflanzen\, die essbar sind und viele Vorteile bieten – man muss sie nur zu nutzen wissen. \nSamstag\, 27. April\, 14.00 Uhr\, ca. 2 Stunden \nTreffpunkt: Lappersdorf\, Kellerweg 4a \nGebühr: 20 €; \nAnmeldung: Barbara Königsberger: 0177 7062150\, info@hwks-akademie.de    www.Hwks-Akademie.de \n 
URL:https://www.lpv-regensburg.de/veranstaltung/die-gruene-hausapotheke-natur-paradies-zwischen-haustuer-und-gartenzaun/
END:VEVENT
END:VCALENDAR