BEGIN:VCALENDAR
VERSION:2.0
PRODID:-//Landschaftspflegeverband Regensburg eV - ECPv6.15.17.1//NONSGML v1.0//EN
CALSCALE:GREGORIAN
METHOD:PUBLISH
X-ORIGINAL-URL:https://www.lpv-regensburg.de
X-WR-CALDESC:Veranstaltungen für Landschaftspflegeverband Regensburg eV
REFRESH-INTERVAL;VALUE=DURATION:PT1H
X-Robots-Tag:noindex
X-PUBLISHED-TTL:PT1H
BEGIN:VTIMEZONE
TZID:Europe/Berlin
BEGIN:DAYLIGHT
TZOFFSETFROM:+0100
TZOFFSETTO:+0200
TZNAME:CEST
DTSTART:20230326T010000
END:DAYLIGHT
BEGIN:STANDARD
TZOFFSETFROM:+0200
TZOFFSETTO:+0100
TZNAME:CET
DTSTART:20231029T010000
END:STANDARD
BEGIN:DAYLIGHT
TZOFFSETFROM:+0100
TZOFFSETTO:+0200
TZNAME:CEST
DTSTART:20240331T010000
END:DAYLIGHT
BEGIN:STANDARD
TZOFFSETFROM:+0200
TZOFFSETTO:+0100
TZNAME:CET
DTSTART:20241027T010000
END:STANDARD
BEGIN:DAYLIGHT
TZOFFSETFROM:+0100
TZOFFSETTO:+0200
TZNAME:CEST
DTSTART:20250330T010000
END:DAYLIGHT
BEGIN:STANDARD
TZOFFSETFROM:+0200
TZOFFSETTO:+0100
TZNAME:CET
DTSTART:20251026T010000
END:STANDARD
END:VTIMEZONE
BEGIN:VEVENT
DTSTART;TZID=Europe/Berlin:20240927T170000
DTEND;TZID=Europe/Berlin:20240927T190000
DTSTAMP:20260422T104918
CREATED:20240327T104605Z
LAST-MODIFIED:20240327T104605Z
UID:9512-1727456400-1727463600@www.lpv-regensburg.de
SUMMARY:Auf den Spuren der Haselmaus
DESCRIPTION:Auf den Spuren der Haselmaus\nWir suchen ein heimliches Lebewesen das nachtaktiv in den Sträuchern und Bäumen unterwegs ist. In seinem Lebensraum erfahren wir von seiner Lebensweise und mit etwas Glück sehen wir auch eine.\nHartmut Schmid\, Gebietsbetreuer\, zusammen mit dem Gartenamt Stadt Regensburg \nFreitag\, 27.September\, 17 – ca. 19 Uhr \nTreffpunkt: Waldparkplatz am Sender „Hohe Linie“ in Keilberg zur Hohen Linie 70\, Tegernheim \nKostenfrei\, geländegängige Schuhe und Kleidung \n 
URL:https://www.lpv-regensburg.de/veranstaltung/auf-den-spuren-der-haselmaus-3/
END:VEVENT
END:VCALENDAR