BEGIN:VCALENDAR
VERSION:2.0
PRODID:-//Landschaftspflegeverband Regensburg eV - ECPv6.15.17.1//NONSGML v1.0//EN
CALSCALE:GREGORIAN
METHOD:PUBLISH
X-WR-CALNAME:Landschaftspflegeverband Regensburg eV
X-ORIGINAL-URL:https://www.lpv-regensburg.de
X-WR-CALDESC:Veranstaltungen für Landschaftspflegeverband Regensburg eV
REFRESH-INTERVAL;VALUE=DURATION:PT1H
X-Robots-Tag:noindex
X-PUBLISHED-TTL:PT1H
BEGIN:VTIMEZONE
TZID:Europe/Berlin
BEGIN:DAYLIGHT
TZOFFSETFROM:+0100
TZOFFSETTO:+0200
TZNAME:CEST
DTSTART:20230326T010000
END:DAYLIGHT
BEGIN:STANDARD
TZOFFSETFROM:+0200
TZOFFSETTO:+0100
TZNAME:CET
DTSTART:20231029T010000
END:STANDARD
BEGIN:DAYLIGHT
TZOFFSETFROM:+0100
TZOFFSETTO:+0200
TZNAME:CEST
DTSTART:20240331T010000
END:DAYLIGHT
BEGIN:STANDARD
TZOFFSETFROM:+0200
TZOFFSETTO:+0100
TZNAME:CET
DTSTART:20241027T010000
END:STANDARD
BEGIN:DAYLIGHT
TZOFFSETFROM:+0100
TZOFFSETTO:+0200
TZNAME:CEST
DTSTART:20250330T010000
END:DAYLIGHT
BEGIN:STANDARD
TZOFFSETFROM:+0200
TZOFFSETTO:+0100
TZNAME:CET
DTSTART:20251026T010000
END:STANDARD
END:VTIMEZONE
BEGIN:VEVENT
DTSTART;TZID=Europe/Berlin:20240414T133000
DTEND;TZID=Europe/Berlin:20240414T170000
DTSTAMP:20260421T073657
CREATED:20240321T082417Z
LAST-MODIFIED:20240321T082417Z
UID:9104-1713101400-1713114000@www.lpv-regensburg.de
SUMMARY:Naturerlebniswanderung: Natur im Frühling: Blütenmeere und Bachgrün
DESCRIPTION:Naturerlebniswanderung: Natur im Frühling: Blütenmeere und Bachgrün\nAuf der Wanderung an den Hängen bei Rohrbach/Vils erwarten uns viele Eindrücke des Aufbruchs: frühblühende Pflanzen wie Leberblümchen und Lerchensporn\, balzende Vögel\, aufbrechende Knospen oder farbenfrohe Schmetterlinge. Dazu gibt es fachkundige Informationen  und eine Fantasiereise. \nWolfgang Kratzer\, Biologe und zertif. Naturführer\nTreffpunkt: Feuerwehr Rohrbach bei Kallmünz.\nSamstag\, 14. April 13:30 – 17:00 Uhr. \nGebühr: 20 € \nAnmeldung/Infos: kratzer-fuehrungen@t-online.de und www.kratzer-fuehrungen.com
URL:https://www.lpv-regensburg.de/veranstaltung/naturerlebniswanderung-natur-im-fruehling-bluetenmeere-und-bachgruen/
END:VEVENT
END:VCALENDAR