BEGIN:VCALENDAR
VERSION:2.0
PRODID:-//Landschaftspflegeverband Regensburg eV - ECPv6.15.17.1//NONSGML v1.0//EN
CALSCALE:GREGORIAN
METHOD:PUBLISH
X-WR-CALNAME:Landschaftspflegeverband Regensburg eV
X-ORIGINAL-URL:https://www.lpv-regensburg.de
X-WR-CALDESC:Veranstaltungen für Landschaftspflegeverband Regensburg eV
REFRESH-INTERVAL;VALUE=DURATION:PT1H
X-Robots-Tag:noindex
X-PUBLISHED-TTL:PT1H
BEGIN:VTIMEZONE
TZID:Europe/Berlin
BEGIN:DAYLIGHT
TZOFFSETFROM:+0100
TZOFFSETTO:+0200
TZNAME:CEST
DTSTART:20230326T010000
END:DAYLIGHT
BEGIN:STANDARD
TZOFFSETFROM:+0200
TZOFFSETTO:+0100
TZNAME:CET
DTSTART:20231029T010000
END:STANDARD
BEGIN:DAYLIGHT
TZOFFSETFROM:+0100
TZOFFSETTO:+0200
TZNAME:CEST
DTSTART:20240331T010000
END:DAYLIGHT
BEGIN:STANDARD
TZOFFSETFROM:+0200
TZOFFSETTO:+0100
TZNAME:CET
DTSTART:20241027T010000
END:STANDARD
BEGIN:DAYLIGHT
TZOFFSETFROM:+0100
TZOFFSETTO:+0200
TZNAME:CEST
DTSTART:20250330T010000
END:DAYLIGHT
BEGIN:STANDARD
TZOFFSETFROM:+0200
TZOFFSETTO:+0100
TZNAME:CET
DTSTART:20251026T010000
END:STANDARD
END:VTIMEZONE
BEGIN:VEVENT
DTSTART;TZID=Europe/Berlin:20240514T180000
DTEND;TZID=Europe/Berlin:20240514T200000
DTSTAMP:20260420T143811
CREATED:20240321T115354Z
LAST-MODIFIED:20240321T115728Z
UID:9444-1715709600-1715716800@www.lpv-regensburg.de
SUMMARY:Tier- und Pflanzenwelt entlang der Donau
DESCRIPTION:Tier- und Pflanzenwelt entlang der Donau\nIm Stadtgebiet von Regensburg ist die Donau aufgestaut\, eingeengt\, befestigt oder intensiv als Erholungsraum genutzt. Für die Natur bleibt nur wenig Raum. Wir radeln gemütlich von der Stadt in Richtung Donaustauf und beobachten die Tiere und Pflanzen in den Lebensräu-men am Wegesrand.\nHartmut Schmid\, Gebietsbetreuer beim LPV Regensburg\, zusammen mit dem Gartenamt \nDienstag\, 14. Mai\, 18 – 20 Uhr \nTreffpunkt: Regensburg\, Kreuzung Schwabelweiser Weg/Vilsstraße Kostenfrei \nKeine Anmeldung erforderlich
URL:https://www.lpv-regensburg.de/veranstaltung/tier-und-pflanzenwelt-entlang-der-donau/
END:VEVENT
END:VCALENDAR