BEGIN:VCALENDAR
VERSION:2.0
PRODID:-//Landschaftspflegeverband Regensburg eV - ECPv6.15.17.1//NONSGML v1.0//EN
CALSCALE:GREGORIAN
METHOD:PUBLISH
X-WR-CALNAME:Landschaftspflegeverband Regensburg eV
X-ORIGINAL-URL:https://www.lpv-regensburg.de
X-WR-CALDESC:Veranstaltungen für Landschaftspflegeverband Regensburg eV
REFRESH-INTERVAL;VALUE=DURATION:PT1H
X-Robots-Tag:noindex
X-PUBLISHED-TTL:PT1H
BEGIN:VTIMEZONE
TZID:Europe/Berlin
BEGIN:DAYLIGHT
TZOFFSETFROM:+0100
TZOFFSETTO:+0200
TZNAME:CEST
DTSTART:20230326T010000
END:DAYLIGHT
BEGIN:STANDARD
TZOFFSETFROM:+0200
TZOFFSETTO:+0100
TZNAME:CET
DTSTART:20231029T010000
END:STANDARD
BEGIN:DAYLIGHT
TZOFFSETFROM:+0100
TZOFFSETTO:+0200
TZNAME:CEST
DTSTART:20240331T010000
END:DAYLIGHT
BEGIN:STANDARD
TZOFFSETFROM:+0200
TZOFFSETTO:+0100
TZNAME:CET
DTSTART:20241027T010000
END:STANDARD
BEGIN:DAYLIGHT
TZOFFSETFROM:+0100
TZOFFSETTO:+0200
TZNAME:CEST
DTSTART:20250330T010000
END:DAYLIGHT
BEGIN:STANDARD
TZOFFSETFROM:+0200
TZOFFSETTO:+0100
TZNAME:CET
DTSTART:20251026T010000
END:STANDARD
END:VTIMEZONE
BEGIN:VEVENT
DTSTART;TZID=Europe/Berlin:20240523T193000
DTEND;TZID=Europe/Berlin:20240523T213000
DTSTAMP:20260422T123906
CREATED:20240321T152704Z
LAST-MODIFIED:20240321T152704Z
UID:9450-1716492600-1716499800@www.lpv-regensburg.de
SUMMARY:Räucherrituale
DESCRIPTION:Räucherrituale\nWir räuchern mit Kräutern\, Harzen und Klängen die für Körper\, Geist und Seele reinigend\, schützend und stärkend wirken. Unsere Vorfahren wussten dieses Wissen sehr zu schätzen und räucherten um sich energetisch und emotional von Altlasten zu befreien und zu heilen.\nDonnerstag 23. Mai\, 19.30 Uhr \nTreffpunkt: Kellerweg 4a\, Lappersdorf \nEnergieausgleich: 15 Euro. \nMitbringen: Isomatte\, Decke\, bequeme Kleidung und warme Socken. \nAnmeldung: Barbara Königsberger: 0177 7062150\, info@hwks-akademie.de  www.Hwks-Akademie.de
URL:https://www.lpv-regensburg.de/veranstaltung/raeucherrituale-2/
END:VEVENT
END:VCALENDAR