BEGIN:VCALENDAR
VERSION:2.0
PRODID:-//Landschaftspflegeverband Regensburg eV - ECPv6.15.17.1//NONSGML v1.0//EN
CALSCALE:GREGORIAN
METHOD:PUBLISH
X-ORIGINAL-URL:https://www.lpv-regensburg.de
X-WR-CALDESC:Veranstaltungen für Landschaftspflegeverband Regensburg eV
REFRESH-INTERVAL;VALUE=DURATION:PT1H
X-Robots-Tag:noindex
X-PUBLISHED-TTL:PT1H
BEGIN:VTIMEZONE
TZID:Europe/Berlin
BEGIN:DAYLIGHT
TZOFFSETFROM:+0100
TZOFFSETTO:+0200
TZNAME:CEST
DTSTART:20230326T010000
END:DAYLIGHT
BEGIN:STANDARD
TZOFFSETFROM:+0200
TZOFFSETTO:+0100
TZNAME:CET
DTSTART:20231029T010000
END:STANDARD
BEGIN:DAYLIGHT
TZOFFSETFROM:+0100
TZOFFSETTO:+0200
TZNAME:CEST
DTSTART:20240331T010000
END:DAYLIGHT
BEGIN:STANDARD
TZOFFSETFROM:+0200
TZOFFSETTO:+0100
TZNAME:CET
DTSTART:20241027T010000
END:STANDARD
BEGIN:DAYLIGHT
TZOFFSETFROM:+0100
TZOFFSETTO:+0200
TZNAME:CEST
DTSTART:20250330T010000
END:DAYLIGHT
BEGIN:STANDARD
TZOFFSETFROM:+0200
TZOFFSETTO:+0100
TZNAME:CET
DTSTART:20251026T010000
END:STANDARD
END:VTIMEZONE
BEGIN:VEVENT
DTSTART;TZID=Europe/Berlin:20240602T140000
DTEND;TZID=Europe/Berlin:20240602T160000
DTSTAMP:20260421T123545
CREATED:20240321T152917Z
LAST-MODIFIED:20240321T152917Z
UID:9452-1717336800-1717344000@www.lpv-regensburg.de
SUMMARY:Wanderung zum Wasserstein bei Ruderszell
DESCRIPTION:Wanderung zum Wasserstein bei Ruderszell\nWir wandern zu einer Steinformation aus der der Zeit der Megalithkultur. Der Name Wasserstein kommt daher\, dass die große Schale fast immer mit Wasser gefüllt ist. Die Schale hat die Form einer Vulva.\nErklärungen zu den örtlichen Gegebenheiten durch Alfons Iglhaut. \nSonntag 2. Juni\, 14– ca.16 Uhr \nTreffpunkt: Parkplatz bei Ruderszell\, an der Staatsstr. 2146 \nkeine Anmeldung \nkostenfrei \nfestes Schuhwerk empfehlenswert
URL:https://www.lpv-regensburg.de/veranstaltung/wanderung-zum-wasserstein-bei-ruderszell/
END:VEVENT
END:VCALENDAR